BEGIN:VCALENDAR
VERSION:2.0
PRODID:-//eventon.com NONSGML v1.0//EN
CALSCALE:GREGORIAN
METHOD:PUBLISH
BEGIN:VEVENT
UID:69e9d711bcdc9
DTSTAMP:20260423T082345Z
DTSTART:20250925T100000Z
DTEND:20250926T000000Z
LOCATION:Cortland Rosslyn 1788 N Pierce Street\,  Arlington\,  VA 22209
SUMMARY:Alumni of Color Reception
DESCRIPTION:Head of School Patrick McHonett invites you to the third annual
  Alumni of Color Reception.Cocktails and Hors d’oeuvres Remarks by Head o
 f School Patrick McHonett and Assistant Head of School for Community\,  Equ
 ity\,  and Student Success\,  Mia Burton RSVP Now 6:00 p.m. &#8211; 8:00 p.
 m.\,  Cortland Rosslyn\,  1788 N Pierce[..]\nhttps://futures.flinthill.org/
 events/alumni-of-color-reception/
URL:https://futures.flinthill.org/events/alumni-of-color-reception/
END:VEVENT
END:VCALENDAR